BEGIN:VCALENDAR
VERSION:2.0
PRODID:spatie/icalendar-generator
DESCRIPTION:Events from St Thomas&amp;#039\; Episcopal Church\, Aboyne
X-WR-CALDESC:Events from St Thomas&amp;#039\; Episcopal Church\, Aboyne
REFRESH-INTERVAL;VALUE=DURATION:PT1440M
X-PUBLISHED-TTL:PT1440M
BEGIN:VTIMEZONE
TZID:Europe/London
BEGIN:STANDARD
DTSTART:20251026T020000Z
TZOFFSETFROM:+0100
TZOFFSETTO:+0000
END:STANDARD
BEGIN:DAYLIGHT
DTSTART:20260329T010000Z
TZOFFSETFROM:+0000
TZOFFSETTO:+0100
END:DAYLIGHT
END:VTIMEZONE
BEGIN:VTIMEZONE
TZID:UTC
BEGIN:STANDARD
DTSTART:20250724T121603Z
TZOFFSETFROM:+0000
TZOFFSETTO:+0000
END:STANDARD
END:VTIMEZONE
BEGIN:VEVENT
UID:367-295
DTSTAMP:20260420T121603Z
SUMMARY:Holy Communion
LOCATION:St Thomas\\'s Episcopal Church\, Aboyne Ballater Road  Aboyne Aber
 deenshire AB34 5FL
ORGANIZER;CN=Sheila Maxwell:MAILTO:sheilamaxwell@btinternet.com
DTSTART;TZID=Europe/London;VALUE=DATE:20260118
DTEND;TZID=Europe/London;VALUE=DATE:20260119
X-ALT-DESC;FMTTYPE=TEXT/HTML:A service of Holy Communion using the 1970 ver
 sion\, led by Rev John Walker Followed by tea/coffee and a chance to socia
 lise
CATEGORIES:General
URL;VALUE=URI:https://www.stthomasaboyne.org/churchcalendar/?cid=mc-948a6a8
 e8cd15db324902317a630b853&#038;mc_id=367&#038;vcal=367
METHOD:PUBLISH
END:VEVENT
END:VCALENDAR