BEGIN:VCALENDAR
VERSION:2.0
PRODID:spatie/icalendar-generator
DESCRIPTION:Events from St Thomas&amp;#039\; Episcopal Church\, Aboyne
X-WR-CALDESC:Events from St Thomas&amp;#039\; Episcopal Church\, Aboyne
REFRESH-INTERVAL;VALUE=DURATION:PT1440M
X-PUBLISHED-TTL:PT1440M
BEGIN:VTIMEZONE
TZID:Europe/London
BEGIN:STANDARD
DTSTART:20251026T020000Z
TZOFFSETFROM:+0100
TZOFFSETTO:+0000
END:STANDARD
BEGIN:DAYLIGHT
DTSTART:20260329T010000Z
TZOFFSETFROM:+0000
TZOFFSETTO:+0100
END:DAYLIGHT
END:VTIMEZONE
BEGIN:VTIMEZONE
TZID:UTC
BEGIN:STANDARD
DTSTART:20250725T085544Z
TZOFFSETFROM:+0000
TZOFFSETTO:+0000
END:STANDARD
END:VTIMEZONE
BEGIN:VEVENT
UID:377-305
DTSTAMP:20260421T085544Z
SUMMARY:Holy Communion
LOCATION:St Thomas\\'s Episcopal Church\, Aboyne Ballater Road  Aboyne Aber
 deenshire AB34 5FL
ORGANIZER;CN=Sheila Maxwell:MAILTO:sheilamaxwell@btinternet.com
DTSTART;TZID=Europe/London:20260215T111500
DTEND;TZID=Europe/London:20260215T123000
X-ALT-DESC;FMTTYPE=TEXT/HTML:A service of Holy Communion using the 1970 ver
 sion\, celebrating the Transfiguration\, led by Rev John Walker. Followed 
 by tea/coffee and the chance to socialise. All are welcome.
CATEGORIES:General
URL;VALUE=URI:https://www.stthomasaboyne.org/churchcalendar/?cid=mc-948a6a8
 e8cd15db324902317a630b853&#038;mc_id=377&#038;vcal=377
METHOD:PUBLISH
END:VEVENT
END:VCALENDAR