BEGIN:VCALENDAR
VERSION:2.0
PRODID:spatie/icalendar-generator
DESCRIPTION:Events from St Thomas&amp;#039\; Episcopal Church\, Aboyne
X-WR-CALDESC:Events from St Thomas&amp;#039\; Episcopal Church\, Aboyne
REFRESH-INTERVAL;VALUE=DURATION:PT1440M
X-PUBLISHED-TTL:PT1440M
BEGIN:VTIMEZONE
TZID:Europe/London
BEGIN:STANDARD
DTSTART:20221030T020000Z
TZOFFSETFROM:+0100
TZOFFSETTO:+0000
END:STANDARD
BEGIN:DAYLIGHT
DTSTART:20230326T010000Z
TZOFFSETFROM:+0000
TZOFFSETTO:+0100
END:DAYLIGHT
END:VTIMEZONE
BEGIN:VTIMEZONE
TZID:UTC
BEGIN:STANDARD
DTSTART:20250725T091315Z
TZOFFSETFROM:+0000
TZOFFSETTO:+0000
END:STANDARD
END:VTIMEZONE
BEGIN:VEVENT
UID:105-53
DTSTAMP:20260421T091315Z
SUMMARY:Holy Communion\, followed by informal lunch
LOCATION:St Thomas\\'s Episcopal Church\, Aboyne Ballater Road  Aboyne Aber
 deenshire AB34 5FL
ORGANIZER;CN=Sheila Maxwell:MAILTO:sheilamaxwell@btinternet.com
DTSTART;TZID=Europe/London:20230307T113000
DTEND;TZID=Europe/London:20230307T133000
X-ALT-DESC;FMTTYPE=TEXT/HTML:Holy Communion
CATEGORIES:General
URL;VALUE=URI:https://www.stthomasaboyne.org/churchcalendar/?mc_id=105&amp;#038
 ;vcal=105
METHOD:PUBLISH
END:VEVENT
END:VCALENDAR