BEGIN:VCALENDAR
VERSION:2.0
PRODID:spatie/icalendar-generator
DESCRIPTION:Events from St Thomas&amp;#039\; Episcopal Church\, Aboyne
X-WR-CALDESC:Events from St Thomas&amp;#039\; Episcopal Church\, Aboyne
REFRESH-INTERVAL;VALUE=DURATION:PT1440M
X-PUBLISHED-TTL:PT1440M
BEGIN:VTIMEZONE
TZID:Europe/London
BEGIN:STANDARD
DTSTART:20231029T020000Z
TZOFFSETFROM:+0100
TZOFFSETTO:+0000
END:STANDARD
BEGIN:DAYLIGHT
DTSTART:20240331T010000Z
TZOFFSETFROM:+0000
TZOFFSETTO:+0100
END:DAYLIGHT
BEGIN:STANDARD
DTSTART:20241027T020000Z
TZOFFSETFROM:+0100
TZOFFSETTO:+0000
END:STANDARD
END:VTIMEZONE
BEGIN:VTIMEZONE
TZID:UTC
BEGIN:STANDARD
DTSTART:20250725T102006Z
TZOFFSETFROM:+0000
TZOFFSETTO:+0000
END:STANDARD
END:VTIMEZONE
BEGIN:VEVENT
UID:228-170
DTSTAMP:20260421T102006Z
SUMMARY:Hot Chocolate Walk
LOCATION:St Kentigern\\'s
ORGANIZER;CN=Sheila Maxwell:MAILTO:sheilamaxwell@btinternet.com
DTSTART;TZID=Europe/London:20240623T140000
DTEND;TZID=Europe/London:20240623T150000
X-ALT-DESC;FMTTYPE=TEXT/HTML:A gentle stroll in the local area to explore a
  \;point of interest\, with a stop for hot chocolate\, or a beverage of yo
 ur choice.  Please come with suitable clothing and footwear for a country
  walk. This  Hot Chocolate Walk will start at St Kentigern's and head up 
 to the Mackenzie Memorial. All meet at&amp;hellip\;
CATEGORIES:General
URL;VALUE=URI:https://www.stthomasaboyne.org/churchcalendar/?mc_id=228&amp;#038
 ;vcal=228
METHOD:PUBLISH
END:VEVENT
END:VCALENDAR