BEGIN:VCALENDAR
VERSION:2.0
PRODID:spatie/icalendar-generator
DESCRIPTION:Events from St Thomas&amp;#039\; Episcopal Church\, Aboyne
X-WR-CALDESC:Events from St Thomas&amp;#039\; Episcopal Church\, Aboyne
REFRESH-INTERVAL;VALUE=DURATION:PT1440M
X-PUBLISHED-TTL:PT1440M
BEGIN:VTIMEZONE
TZID:Europe/London
BEGIN:STANDARD
DTSTART:20251026T020000Z
TZOFFSETFROM:+0100
TZOFFSETTO:+0000
END:STANDARD
BEGIN:DAYLIGHT
DTSTART:20260329T010000Z
TZOFFSETFROM:+0000
TZOFFSETTO:+0100
END:DAYLIGHT
END:VTIMEZONE
BEGIN:VTIMEZONE
TZID:UTC
BEGIN:STANDARD
DTSTART:20250725T125421Z
TZOFFSETFROM:+0000
TZOFFSETTO:+0000
END:STANDARD
END:VTIMEZONE
BEGIN:VEVENT
UID:382-310
DTSTAMP:20260421T125421Z
SUMMARY:Holy Communion for Easter Sunday
LOCATION:St Thomas\\'s Episcopal Church\, Aboyne Ballater Road  Aboyne Aber
 deenshire AB34 5FL
ORGANIZER;CN=Sheila Maxwell:MAILTO:sheilamaxwell@btinternet.com
DTSTART;TZID=Europe/London:20260405T111500
DTEND;TZID=Europe/London:20260405T130000
X-ALT-DESC;FMTTYPE=TEXT/HTML:A service of Holy Communion celebrating Easter
 \, using the 1982 version. Led by Rev Ken Webb. This will be followed by t
 ea/coffee/juice for everyone\, and a search for Easter Eggs in the grounds
  for the children. All are welcome to the service.
CATEGORIES:General
URL;VALUE=URI:https://www.stthomasaboyne.org/churchcalendar/?mc_id=382&amp;#038
 ;vcal=382
METHOD:PUBLISH
END:VEVENT
END:VCALENDAR