BEGIN:VCALENDAR
VERSION:2.0
PRODID:spatie/icalendar-generator
DESCRIPTION:Events from St Thomas&amp;#039\; Episcopal Church\, Aboyne
X-WR-CALDESC:Events from St Thomas&amp;#039\; Episcopal Church\, Aboyne
REFRESH-INTERVAL;VALUE=DURATION:PT1440M
X-PUBLISHED-TTL:PT1440M
BEGIN:VTIMEZONE
TZID:Europe/London
BEGIN:STANDARD
DTSTART:20251026T020000Z
TZOFFSETFROM:+0100
TZOFFSETTO:+0000
END:STANDARD
BEGIN:DAYLIGHT
DTSTART:20260329T010000Z
TZOFFSETFROM:+0000
TZOFFSETTO:+0100
END:DAYLIGHT
END:VTIMEZONE
BEGIN:VTIMEZONE
TZID:UTC
BEGIN:STANDARD
DTSTART:20250724T135505Z
TZOFFSETFROM:+0000
TZOFFSETTO:+0000
END:STANDARD
END:VTIMEZONE
BEGIN:VEVENT
UID:386-314
DTSTAMP:20260420T135505Z
SUMMARY:Morning Worship
LOCATION:St Thomas\\'s Episcopal Church\, Aboyne Ballater Road  Aboyne Aber
 deenshire AB34 5FL
ORGANIZER;CN=Sheila Maxwell:MAILTO:sheilamaxwell@btinternet.com
DTSTART;TZID=Europe/London:20260412T111500
DTEND;TZID=Europe/London:20260412T121500
X-ALT-DESC;FMTTYPE=TEXT/HTML:A non-Communion service for all ages\, led by 
 members of the congregation Followed by tea/cpffee/juice\, and a chance to
  socialise
CATEGORIES:General
URL;VALUE=URI:https://www.stthomasaboyne.org/churchcalendar/?mc_id=386&amp;#038
 ;vcal=386
METHOD:PUBLISH
END:VEVENT
END:VCALENDAR